BEGIN:VCALENDAR
VERSION:2.0
PRODID:spatie/icalendar-generator
DESCRIPTION:Events from Phoenix Volleyball
X-WR-CALDESC:Events from Phoenix Volleyball
REFRESH-INTERVAL;VALUE=DURATION:PT1440M
X-PUBLISHED-TTL:PT1440M
BEGIN:VTIMEZONE
TZID:America/Toronto
BEGIN:STANDARD
DTSTART:20221106T020000Z
TZOFFSETFROM:-0400
TZOFFSETTO:-0500
END:STANDARD
BEGIN:DAYLIGHT
DTSTART:20230312T020000Z
TZOFFSETFROM:-0500
TZOFFSETTO:-0400
END:DAYLIGHT
END:VTIMEZONE
BEGIN:VTIMEZONE
TZID:UTC
BEGIN:STANDARD
DTSTART:20250724T210240Z
TZOFFSETFROM:+0000
TZOFFSETTO:+0000
END:STANDARD
END:VTIMEZONE
BEGIN:VEVENT
UID:219-123
DTSTAMP:20260420T210240Z
SUMMARY:14UG Challenge Cup
LOCATION:St. Elizabeth Catholic High School 525 New Westminster Dr  Thornhi
 ll ON L4J 7X3
ORGANIZER;CN=OPS Phx:MAILTO:operations@phoenixvolleyball.ca
DTSTART;TZID=America/Toronto;VALUE=DATE:20230122
DTEND;TZID=America/Toronto;VALUE=DATE:20230123
X-ALT-DESC;FMTTYPE=TEXT/HTML:14U Burn @ St. Elizabeth Catholic High School 
 (525 New Westminster Dr\, Thornhill\, ON L4J 7X3)
CATEGORIES:Tournaments
URL;VALUE=URI:https://www.phoenixvolleyball.ca/mc-events/14ug-challenge-cup
 -2/
METHOD:PUBLISH
END:VEVENT
END:VCALENDAR