BEGIN:VCALENDAR
VERSION:2.0
PRODID:spatie/icalendar-generator
DESCRIPTION:Events from Phoenix Volleyball
X-WR-CALDESC:Events from Phoenix Volleyball
REFRESH-INTERVAL;VALUE=DURATION:PT1440M
X-PUBLISHED-TTL:PT1440M
BEGIN:VTIMEZONE
TZID:America/Toronto
BEGIN:STANDARD
DTSTART:20221106T020000Z
TZOFFSETFROM:-0400
TZOFFSETTO:-0500
END:STANDARD
BEGIN:DAYLIGHT
DTSTART:20230312T020000Z
TZOFFSETFROM:-0500
TZOFFSETTO:-0400
END:DAYLIGHT
END:VTIMEZONE
BEGIN:VTIMEZONE
TZID:UTC
BEGIN:STANDARD
DTSTART:20250724T204811Z
TZOFFSETFROM:+0000
TZOFFSETTO:+0000
END:STANDARD
END:VTIMEZONE
BEGIN:VEVENT
UID:220-124
DTSTAMP:20260420T204811Z
SUMMARY:16UG McGregor Cup
LOCATION:VARIOUS
ORGANIZER;CN=OPS Phx:MAILTO:operations@phoenixvolleyball.ca
DTSTART;TZID=America/Toronto;VALUE=DATE:20230128
DTEND;TZID=America/Toronto;VALUE=DATE:20230129
X-ALT-DESC;FMTTYPE=TEXT/HTML:16U Legacy @ The Playground Global (1313 Bound
 ary Rd\, Oshawa\, ON L1J 6Z7) 16U Flash @ Christ the King Catholic Seconda
 ry School (161 Guelph St\, Georgetown\, ON L7G 4A6) 15U Talons @ St. Eliza
 beth Catholic High School (525 New Westminster Dr\, Thornhill\, ON L4J 7X3
 ) 15U Energy @ Huron Heights Secondary School (40 Huron Heights&amp;hellip\;
CATEGORIES:Tournaments
URL;VALUE=URI:https://www.phoenixvolleyball.ca/mc-events/16ug-mcgregor-cup/
METHOD:PUBLISH
END:VEVENT
END:VCALENDAR