BEGIN:VCALENDAR
VERSION:2.0
PRODID:spatie/icalendar-generator
DESCRIPTION:Events from Phoenix Volleyball
X-WR-CALDESC:Events from Phoenix Volleyball
REFRESH-INTERVAL;VALUE=DURATION:PT1440M
X-PUBLISHED-TTL:PT1440M
BEGIN:VTIMEZONE
TZID:America/Toronto
BEGIN:STANDARD
DTSTART:20221106T020000Z
TZOFFSETFROM:-0400
TZOFFSETTO:-0500
END:STANDARD
BEGIN:DAYLIGHT
DTSTART:20230312T020000Z
TZOFFSETFROM:-0500
TZOFFSETTO:-0400
END:DAYLIGHT
END:VTIMEZONE
BEGIN:VTIMEZONE
TZID:UTC
BEGIN:STANDARD
DTSTART:20250724T205546Z
TZOFFSETFROM:+0000
TZOFFSETTO:+0000
END:STANDARD
END:VTIMEZONE
BEGIN:VEVENT
UID:234-138
DTSTAMP:20260420T205546Z
SUMMARY:16UG Bugarski Cup
LOCATION:
ORGANIZER;CN=OPS Phx:MAILTO:operations@phoenixvolleyball.ca
DTSTART;TZID=America/Toronto;VALUE=DATE:20230319
DTEND;TZID=America/Toronto;VALUE=DATE:20230320
X-ALT-DESC;FMTTYPE=TEXT/HTML:16U Legacy 16U Flash
CATEGORIES:Tournaments
URL;VALUE=URI:https://www.phoenixvolleyball.ca/mc-events/16ug-bugarski-cup/
METHOD:PUBLISH
END:VEVENT
END:VCALENDAR